BEGIN:VCALENDAR
VERSION:2.0
PRODID:icalendar-ruby
CALSCALE:GREGORIAN
METHOD:PUBLISH
BEGIN:VEVENT
DTSTAMP:20260424T064019Z
UID:5-404273@northernhillsumccinti.org
DTSTART:20261011T143000Z
DTEND:20261011T153000Z
CLASS:PUBLIC
CREATED:20260423T231208
DESCRIPTION:Sunday Worship
LAST-MODIFIED:20260423T231208
LOCATION:
SUMMARY:Sunday Worship
URL;VALUE=URI:https://northernhillsumccinti.org/events/sunday-worship/2026-
 10-11
END:VEVENT
END:VCALENDAR
