BEGIN:VCALENDAR
VERSION:2.0
PRODID:icalendar-ruby
CALSCALE:GREGORIAN
METHOD:PUBLISH
BEGIN:VEVENT
DTSTAMP:20260424T045236Z
UID:5-404272@northernhillsumccinti.org
DTSTART:20261004T143000Z
DTEND:20261004T153000Z
CLASS:PUBLIC
CREATED:20260423T231208
DESCRIPTION:Sunday Worship
LAST-MODIFIED:20260423T231208
LOCATION:
SUMMARY:Sunday Worship
URL;VALUE=URI:https://northernhillsumccinti.org/events/sunday-worship/2026-
 10-04
END:VEVENT
END:VCALENDAR
